BEGIN:VCALENDAR
VERSION:2.0
PRODID:-//Dale on Sale - ECPv6.15.17.1//NONSGML v1.0//EN
CALSCALE:GREGORIAN
METHOD:PUBLISH
X-ORIGINAL-URL:https://daleonsale.com
X-WR-CALDESC:Events for Dale on Sale
REFRESH-INTERVAL;VALUE=DURATION:PT1H
X-Robots-Tag:noindex
X-PUBLISHED-TTL:PT1H
BEGIN:VTIMEZONE
TZID:America/Chicago
BEGIN:DAYLIGHT
TZOFFSETFROM:-0600
TZOFFSETTO:-0500
TZNAME:CDT
DTSTART:20250309T080000
END:DAYLIGHT
BEGIN:STANDARD
TZOFFSETFROM:-0500
TZOFFSETTO:-0600
TZNAME:CST
DTSTART:20251102T070000
END:STANDARD
BEGIN:DAYLIGHT
TZOFFSETFROM:-0600
TZOFFSETTO:-0500
TZNAME:CDT
DTSTART:20260308T080000
END:DAYLIGHT
BEGIN:STANDARD
TZOFFSETFROM:-0500
TZOFFSETTO:-0600
TZNAME:CST
DTSTART:20261101T070000
END:STANDARD
BEGIN:DAYLIGHT
TZOFFSETFROM:-0600
TZOFFSETTO:-0500
TZNAME:CDT
DTSTART:20270314T080000
END:DAYLIGHT
BEGIN:STANDARD
TZOFFSETFROM:-0500
TZOFFSETTO:-0600
TZNAME:CST
DTSTART:20271107T070000
END:STANDARD
END:VTIMEZONE
BEGIN:VEVENT
DTSTART;TZID=America/Chicago:20260419T120000
DTEND;TZID=America/Chicago:20260419T150000
DTSTAMP:20260422T065017
CREATED:20260317T214937Z
LAST-MODIFIED:20260317T220207Z
UID:219-1776600000-1776610800@daleonsale.com
SUMMARY:High Score Market
DESCRIPTION:Dale on Sale will be selling handcrafted weirdness at Milwaukee Record’s High Score on April 19th. \n \nHigh Score will feature a wide variety of local\, regional\, and national vendors who offer botanical\, plant-infused products with “added ingredients” that are 100 percent legal to purchase and consume in Wisconsin. \nTickets—which include samples of various products—cost $12 (plus fees) in advance and $20 (plus fees) at the door. There will only be 150 tickets available. All advance ticket purchases also include a free event-exclusive gift courtesy of Milwaukee Record.
URL:https://daleonsale.com/event/high-score-market/
LOCATION:Falcon Hall\, 801 E. Clarke St.\, Milwaukee\, WI\, 53212
ATTACH;FMTTYPE=image/jpeg:https://daleonsale.com/wp-content/uploads/2026/03/High-Score-2026-main-1412x800-1.jpg
END:VEVENT
END:VCALENDAR