BEGIN:VCALENDAR
VERSION:2.0
PRODID:-//Dale on Sale - ECPv6.15.17.1//NONSGML v1.0//EN
CALSCALE:GREGORIAN
METHOD:PUBLISH
X-ORIGINAL-URL:https://daleonsale.com
X-WR-CALDESC:Events for Dale on Sale
REFRESH-INTERVAL;VALUE=DURATION:PT1H
X-Robots-Tag:noindex
X-PUBLISHED-TTL:PT1H
BEGIN:VTIMEZONE
TZID:America/Chicago
BEGIN:DAYLIGHT
TZOFFSETFROM:-0600
TZOFFSETTO:-0500
TZNAME:CDT
DTSTART:20250309T080000
END:DAYLIGHT
BEGIN:STANDARD
TZOFFSETFROM:-0500
TZOFFSETTO:-0600
TZNAME:CST
DTSTART:20251102T070000
END:STANDARD
BEGIN:DAYLIGHT
TZOFFSETFROM:-0600
TZOFFSETTO:-0500
TZNAME:CDT
DTSTART:20260308T080000
END:DAYLIGHT
BEGIN:STANDARD
TZOFFSETFROM:-0500
TZOFFSETTO:-0600
TZNAME:CST
DTSTART:20261101T070000
END:STANDARD
BEGIN:DAYLIGHT
TZOFFSETFROM:-0600
TZOFFSETTO:-0500
TZNAME:CDT
DTSTART:20270314T080000
END:DAYLIGHT
BEGIN:STANDARD
TZOFFSETFROM:-0500
TZOFFSETTO:-0600
TZNAME:CST
DTSTART:20271107T070000
END:STANDARD
END:VTIMEZONE
BEGIN:VEVENT
DTSTART;TZID=America/Chicago:20260423T190000
DTEND;TZID=America/Chicago:20260423T220000
DTSTAMP:20260420T154353
CREATED:20260317T215515Z
LAST-MODIFIED:20260317T220231Z
UID:231-1776970800-1776981600@daleonsale.com
SUMMARY:The Drawing Room Presents: Allison Mahal
DESCRIPTION:Dale on Sale will be selling handcrafted weirdness prior to Allison Mahal’s show at Hawthorn Contemporary on April 23rd. \n \nAllison Mahal is an Americana artist based out of Milwaukee\, WI. Her “storytelling-centric songs and slice-of-life lyrics” (Milwaukee Journal Sentinel) are the perfect soundtrack for any twenty-something finding their way. For fans of Maggie Rogers and Madi Diaz. \nDoors 7 PM / Show 8 PM
URL:https://daleonsale.com/event/the-drawing-room-presents-allison-mahal/
LOCATION:Hawthorn Contemporary\, 706 S 5th St\, Milwaukee\, WI\, 53204\, United States
ATTACH;FMTTYPE=image/avif:https://daleonsale.com/wp-content/uploads/2026/03/Allison-Mahal.avif
END:VEVENT
END:VCALENDAR