BEGIN:VCALENDAR
VERSION:2.0
PRODID:-//Dale on Sale - ECPv6.15.17.1//NONSGML v1.0//EN
CALSCALE:GREGORIAN
METHOD:PUBLISH
X-ORIGINAL-URL:https://daleonsale.com
X-WR-CALDESC:Events for Dale on Sale
REFRESH-INTERVAL;VALUE=DURATION:PT1H
X-Robots-Tag:noindex
X-PUBLISHED-TTL:PT1H
BEGIN:VTIMEZONE
TZID:America/Chicago
BEGIN:DAYLIGHT
TZOFFSETFROM:-0600
TZOFFSETTO:-0500
TZNAME:CDT
DTSTART:20250309T080000
END:DAYLIGHT
BEGIN:STANDARD
TZOFFSETFROM:-0500
TZOFFSETTO:-0600
TZNAME:CST
DTSTART:20251102T070000
END:STANDARD
BEGIN:DAYLIGHT
TZOFFSETFROM:-0600
TZOFFSETTO:-0500
TZNAME:CDT
DTSTART:20260308T080000
END:DAYLIGHT
BEGIN:STANDARD
TZOFFSETFROM:-0500
TZOFFSETTO:-0600
TZNAME:CST
DTSTART:20261101T070000
END:STANDARD
BEGIN:DAYLIGHT
TZOFFSETFROM:-0600
TZOFFSETTO:-0500
TZNAME:CDT
DTSTART:20270314T080000
END:DAYLIGHT
BEGIN:STANDARD
TZOFFSETFROM:-0500
TZOFFSETTO:-0600
TZNAME:CST
DTSTART:20271107T070000
END:STANDARD
END:VTIMEZONE
BEGIN:VEVENT
DTSTART;TZID=America/Chicago:20260328T110000
DTEND;TZID=America/Chicago:20260328T150000
DTSTAMP:20260420T154301
CREATED:20260314T175145Z
LAST-MODIFIED:20260317T220306Z
UID:131-1774695600-1774710000@daleonsale.com
SUMMARY:Punk Rock Rummage Sale
DESCRIPTION:Dale on Sale will be selling handcrafted weirdness at the Punk Rock Rummage Sale at X-Ray Arcade on March 28th.  \n \nPUNK ROCK RUMMAGE PRESENTS\nPOP-UP MARKET / ALL AGES\n11AM – 3PM\n11 AM EARLY BIRD – $2 / NO COVER AFTER NOON
URL:https://daleonsale.com/event/punk-rock-rummage-sale/
LOCATION:X-Ray Arcade\, 5036 S PACKARD AVENUE\, CUDAHY\, WI\, 53110
ATTACH;FMTTYPE=image/jpeg:https://daleonsale.com/wp-content/uploads/2026/03/punkrockrummagesale.jpg
END:VEVENT
END:VCALENDAR